BEGIN:VCALENDAR
VERSION:2.0
PRODID:icalendar-ruby
CALSCALE:GREGORIAN
BEGIN:VEVENT
DTSTAMP:20210119T193238Z
UID:457dfce5-1b30-4b4a-93e4-8dc23f517df1
DTSTART;VALUE=DATE:20190904
DESCRIPTION:Property ID# 459857\, Locatoin:  Harcourts Paremata Office. \, 
 Time: 1:00PM
SUMMARY:Auction for 
END:VEVENT
END:VCALENDAR
