BEGIN:VCALENDAR
VERSION:2.0
PRODID:icalendar-ruby
CALSCALE:GREGORIAN
BEGIN:VEVENT
DTSTAMP:20210119T193236Z
UID:6c0f68ac-70cc-44f9-b68d-e87020fd7aef
DTSTART;VALUE=DATE:20190925
DESCRIPTION:Property ID# 461266\, Locatoin: Harcourts Paremata Office (not 
 selling prior)\, Time: 1:00PM
SUMMARY:Auction for 
END:VEVENT
END:VCALENDAR
