BEGIN:VCALENDAR
VERSION:2.0
PRODID:icalendar-ruby
CALSCALE:GREGORIAN
BEGIN:VEVENT
DTSTAMP:20210119T192752Z
UID:2cc5ee33-39e1-4fe7-a6dc-2ab0c9bfe168
DTSTART;VALUE=DATE:20191003
DESCRIPTION:Property ID# 461270\, Locatoin: Harcourts Paraparaumu (will not
  be sold prior)\, Time: 12:00PM
SUMMARY:Auction for 
END:VEVENT
END:VCALENDAR
