BEGIN:VCALENDAR
VERSION:2.0
PRODID:icalendar-ruby
CALSCALE:GREGORIAN
BEGIN:VEVENT
DTSTAMP:20210119T193235Z
UID:8f08a8a8-ba8c-42a3-bf9c-04966f12786d
DTSTART;VALUE=DATE:20191017
DESCRIPTION:Property ID# 462224\, Locatoin: Harcourts Paraparaumu Auction R
 oom (unless sold prior)\, Time: 12:00PM
SUMMARY:Auction for 
END:VEVENT
END:VCALENDAR
