BEGIN:VCALENDAR
VERSION:2.0
PRODID:icalendar-ruby
CALSCALE:GREGORIAN
BEGIN:VEVENT
DTSTAMP:20210122T161721Z
UID:4ee0493a-aed1-4d2a-ba41-8d6a37409210
DTSTART;VALUE=DATE:20191023
DESCRIPTION:Property ID# 462896\, Locatoin: Paremata Office\, Time: 12:00PM
SUMMARY:Auction for 
END:VEVENT
END:VCALENDAR
