BEGIN:VCALENDAR
VERSION:2.0
PRODID:icalendar-ruby
CALSCALE:GREGORIAN
BEGIN:VEVENT
DTSTAMP:20210119T193233Z
UID:fd2c2ae9-fe6d-47c1-8c4c-4bb5b69febb6
DTSTART;VALUE=DATE:20191121
DESCRIPTION:Property ID# 464274\, Locatoin: Harcourts Paraparaumu Auction R
 oom (not selling prior)\, Time: 12:00PM
SUMMARY:Auction for 
END:VEVENT
END:VCALENDAR
