BEGIN:VCALENDAR
VERSION:2.0
PRODID:icalendar-ruby
CALSCALE:GREGORIAN
BEGIN:VEVENT
DTSTAMP:20210119T192832Z
UID:42a7fa32-26b2-4fde-b6c7-90beeeac3963
DTSTART;VALUE=DATE:20191218
DESCRIPTION:Property ID# 468307\, Locatoin: Harcourts Paremata at 4pm (unle
 ss sold prior)\, Time: 12:00PM
SUMMARY:Auction for 
END:VEVENT
END:VCALENDAR
