BEGIN:VCALENDAR
VERSION:2.0
PRODID:icalendar-ruby
CALSCALE:GREGORIAN
BEGIN:VEVENT
DTSTAMP:20210119T192829Z
UID:d99da994-77dd-4bb3-a844-dd441c74411a
DTSTART;VALUE=DATE:20200213
DESCRIPTION:Property ID# 470455\, Locatoin: Harcourts Paremata from 5pm (no
 t selling prior)\, Time: 12:00PM
SUMMARY:Auction for 
END:VEVENT
END:VCALENDAR
