BEGIN:VCALENDAR
VERSION:2.0
PRODID:icalendar-ruby
CALSCALE:GREGORIAN
BEGIN:VEVENT
DTSTAMP:20210119T192824Z
UID:f44bb66a-795f-4918-8201-67329665f1b3
DTSTART;VALUE=DATE:20200316
DESCRIPTION:Property ID# 474335\, Locatoin: Harcourts Paremata at 4pm (not 
 selling prior)\, Time: 4:00PM
SUMMARY:Auction for 
END:VEVENT
END:VCALENDAR
