BEGIN:VCALENDAR
VERSION:2.0
PRODID:icalendar-ruby
CALSCALE:GREGORIAN
BEGIN:VEVENT
DTSTAMP:20210119T192749Z
UID:18018412-e578-4b88-aa22-1e8e86065592
DTSTART;VALUE=DATE:20200604
DESCRIPTION:Property ID# 475805\, Locatoin: Harcourts Paremata @ 1pm\, Time
 : 1:00PM
SUMMARY:Auction for 
END:VEVENT
END:VCALENDAR
