BEGIN:VCALENDAR
VERSION:2.0
PRODID:icalendar-ruby
CALSCALE:GREGORIAN
BEGIN:VEVENT
DTSTAMP:20210122T162151Z
UID:cf7a1b41-116a-4449-94b4-ad7f275540c7
DTSTART;VALUE=DATE:20200513
DESCRIPTION:Property ID# 476520\, Locatoin: Harcourts Paremata Office 1.00p
 m (not selling  prior)\, Time: 1:00PM
SUMMARY:Auction for 
END:VEVENT
END:VCALENDAR
