BEGIN:VCALENDAR
VERSION:2.0
PRODID:icalendar-ruby
CALSCALE:GREGORIAN
BEGIN:VEVENT
DTSTAMP:20210119T192822Z
UID:f221f4d4-51b5-4fbe-814f-b109eb1f5d94
DTSTART;VALUE=DATE:20200624
DESCRIPTION:Property ID# 482170\, Locatoin: Harcourts Lower Hutt Office - 5
 16 High Street\, Lower Hutt\, Time: 12:00PM
SUMMARY:Auction for 
END:VEVENT
END:VCALENDAR
