BEGIN:VCALENDAR
VERSION:2.0
PRODID:icalendar-ruby
CALSCALE:GREGORIAN
BEGIN:VEVENT
DTSTAMP:20210119T192748Z
UID:6c370ec2-9b3d-4fb8-81b2-bacfdf4b02c5
DTSTART;VALUE=DATE:20200629
DESCRIPTION:Property ID# 482175\, Locatoin: Harcourts Paremata @ 12MD \, Ti
 me: 12:00PM
SUMMARY:Auction for 
END:VEVENT
END:VCALENDAR
