BEGIN:VCALENDAR
VERSION:2.0
PRODID:icalendar-ruby
CALSCALE:GREGORIAN
BEGIN:VEVENT
DTSTAMP:20210122T162512Z
UID:32a2172b-3b4a-4b8c-b07a-1f58752a2fba
DTSTART;VALUE=DATE:20200625
DESCRIPTION:Property ID# 482615\, Locatoin: Clark & Co Realty\, 7 Mana Espl
 anade\, Paremata\, Time: 1:00PM
SUMMARY:Auction for 
END:VEVENT
END:VCALENDAR
