BEGIN:VCALENDAR
VERSION:2.0
PRODID:icalendar-ruby
CALSCALE:GREGORIAN
BEGIN:VEVENT
DTSTAMP:20210119T192819Z
UID:375bbeef-4d3e-4469-a4d5-37ecf1cc80e4
DTSTART;VALUE=DATE:20200717
DESCRIPTION:Property ID# 484691\, Locatoin: Harcourts Paremata Office - 7 D
 olly Varden Crescent\, Paremata (unless dold prior)\, Time: 4:00PM
SUMMARY:Auction for 
END:VEVENT
END:VCALENDAR
