BEGIN:VCALENDAR
VERSION:2.0
PRODID:icalendar-ruby
CALSCALE:GREGORIAN
BEGIN:VEVENT
DTSTAMP:20210119T192742Z
UID:ccb8407d-00d2-465b-99e3-5d21a0f42ba8
DTSTART;VALUE=DATE:20201001
DESCRIPTION:Property ID# 488958\, Locatoin: Harcourts Paremata at 4pm\, Tim
 e: 4:00PM
SUMMARY:Auction for 
END:VEVENT
END:VCALENDAR
