BEGIN:VCALENDAR
VERSION:2.0
PRODID:icalendar-ruby
CALSCALE:GREGORIAN
BEGIN:VEVENT
DTSTAMP:20210119T192740Z
UID:2842e924-f48e-4e3f-baa8-a1ac488f8917
DTSTART;VALUE=DATE:20201008
DESCRIPTION:Property ID# 489722\, Locatoin: Harcourts Paremata at 4pm (no s
 ale prior)\, Time: 4:00PM
SUMMARY:Auction for 
END:VEVENT
END:VCALENDAR
