BEGIN:VCALENDAR
VERSION:2.0
PRODID:icalendar-ruby
CALSCALE:GREGORIAN
BEGIN:VEVENT
DTSTAMP:20210119T192739Z
UID:cb50218e-0027-4020-b8d7-7cc5ceade5cd
DTSTART;VALUE=DATE:20201112
DESCRIPTION:Property ID# 492371\, Locatoin: Harcourts Paremata at 1pm\, Tim
 e: 1:00PM
SUMMARY:Auction for 
END:VEVENT
END:VCALENDAR
