BEGIN:VCALENDAR
VERSION:2.0
PRODID:icalendar-ruby
CALSCALE:GREGORIAN
BEGIN:VEVENT
DTSTAMP:20210122T161738Z
UID:0eafa50f-02d3-43fc-907c-b7a726b2a4c7
DTSTART;VALUE=DATE:20201105
DESCRIPTION:Property ID# 492710\, Locatoin: Harcourts Paremata Office - 7 D
 olly Varden Crescent\, Paremata (unless sold prior)\, Time: 4:00PM
SUMMARY:Auction for 
END:VEVENT
END:VCALENDAR
