BEGIN:VCALENDAR
VERSION:2.0
PRODID:icalendar-ruby
CALSCALE:GREGORIAN
BEGIN:VEVENT
DTSTAMP:20210119T193558Z
UID:20487abf-6204-49c6-8c10-bbba0e91f8bf
DTSTART;VALUE=DATE:20201119
DESCRIPTION:Property ID# 494083\, Locatoin: Tommy's Mana\, 99 Mana Esplanad
 e\, Paremata\, Time: 1:00PM
SUMMARY:Auction for 
END:VEVENT
END:VCALENDAR
