BEGIN:VCALENDAR
VERSION:2.0
PRODID:icalendar-ruby
CALSCALE:GREGORIAN
BEGIN:VEVENT
DTSTAMP:20210122T162507Z
UID:52056ed6-e8f6-4e9b-a4ea-0241a8500f39
DTSTART;VALUE=DATE:20201126
DESCRIPTION:Property ID# 494717\, Locatoin: Tommys Mana 99 Mana Esplanade P
 aremata \, Time: 1:00PM
SUMMARY:Auction for 
END:VEVENT
END:VCALENDAR
