BEGIN:VCALENDAR
VERSION:2.0
PRODID:icalendar-ruby
CALSCALE:GREGORIAN
BEGIN:VEVENT
DTSTAMP:20210119T193555Z
UID:86896962-3ddf-4e2f-aefb-2af2eb5f9bc7
DTSTART;VALUE=DATE:20201203
DESCRIPTION:Property ID# 495407\, Locatoin: Tommys Mana\, 99 Mana Esplanade
 \, Paremata\, Time: 1:00PM
SUMMARY:Auction for 
END:VEVENT
END:VCALENDAR
