BEGIN:VCALENDAR
VERSION:2.0
PRODID:icalendar-ruby
CALSCALE:GREGORIAN
BEGIN:VEVENT
DTSTAMP:20210119T192737Z
UID:7e4e2984-56bc-446d-9392-480d80c4ee74
DTSTART;VALUE=DATE:20201217
DESCRIPTION:Property ID# 496378\, Locatoin: Harcourts Paremata @ 1pm\, Time
 : 1:00PM
SUMMARY:Auction for 
END:VEVENT
END:VCALENDAR
