BEGIN:VCALENDAR
VERSION:2.0
PRODID:icalendar-ruby
CALSCALE:GREGORIAN
BEGIN:VEVENT
DTSTAMP:20210119T192735Z
UID:55a16b90-cb73-46a2-9023-e39e04a50c67
DTSTART;VALUE=DATE:20201221
DESCRIPTION:Property ID# 496380\, Locatoin: Harcourts Paremata @ 1pm\, Time
 : 12:00PM
SUMMARY:Auction for 
END:VEVENT
END:VCALENDAR
