BEGIN:VCALENDAR
VERSION:2.0
PRODID:icalendar-ruby
CALSCALE:GREGORIAN
BEGIN:VEVENT
DTSTAMP:20210122T161353Z
UID:e6b62d33-8707-4113-9aee-5e91049f4a9e
DTSTART;VALUE=DATE:20210203
DESCRIPTION:Property ID# 499452\, Locatoin: Harcourts Paremata @ 1pm\, Time
 : 1:00PM
SUMMARY:Auction for 1 Sailmaker Close
END:VEVENT
END:VCALENDAR
