BEGIN:VCALENDAR
VERSION:2.0
PRODID:icalendar-ruby
CALSCALE:GREGORIAN
BEGIN:VEVENT
DTSTAMP:20210119T192415Z
UID:ba586174-da7b-4064-b5b4-e95de95b637c
DTSTART;TZID=Pacific/Auckland:20210124T130000
DTEND;TZID=Pacific/Auckland:20210124T134500
DESCRIPTION:Property ID# 499452
SUMMARY:Openhome for 1 Sailmaker Close
END:VEVENT
END:VCALENDAR
