BEGIN:VCALENDAR
VERSION:2.0
PRODID:icalendar-ruby
CALSCALE:GREGORIAN
BEGIN:VEVENT
DTSTAMP:20210119T192422Z
UID:08c8d138-7756-4c8a-9d9c-f01315b0c92b
DTSTART;TZID=Pacific/Auckland:20210124T140000
DTEND;TZID=Pacific/Auckland:20210124T144500
DESCRIPTION:Property ID# 499291
SUMMARY:Openhome for 
END:VEVENT
END:VCALENDAR
