BEGIN:VCALENDAR
VERSION:2.0
PRODID:icalendar-ruby
CALSCALE:GREGORIAN
BEGIN:VEVENT
DTSTAMP:20210119T192427Z
UID:cfd88f0c-3daf-41ea-bf0b-e9908f457ae5
DTSTART;TZID=Pacific/Auckland:20210124T130000
DTEND;TZID=Pacific/Auckland:20210124T134500
DESCRIPTION:Property ID# 491617
SUMMARY:Openhome for 10 Oak Avenue
END:VEVENT
END:VCALENDAR
