BEGIN:VCALENDAR
VERSION:2.0
PRODID:icalendar-ruby
CALSCALE:GREGORIAN
BEGIN:VEVENT
DTSTAMP:20260423T150708Z
UID:b55588f6-ebb0-4204-8ae0-0eb54b05bf95
DTSTART;VALUE=DATE:20210210
DESCRIPTION:Property ID# 500112\, Locatoin: Tommys Mana\, 99 Mana Esplanade
 \, Paremata\, Time: 1:00PM
SUMMARY:Auction for 
END:VEVENT
END:VCALENDAR
