BEGIN:VCALENDAR
VERSION:2.0
PRODID:icalendar-ruby
CALSCALE:GREGORIAN
BEGIN:VEVENT
DTSTAMP:20260423T114435Z
UID:9afedfb7-061f-47c7-9d57-41c3456e6130
DTSTART;VALUE=DATE:20211020
DESCRIPTION:Property ID# 518320\, Locatoin: Tommy's Mana 99 Esplanade Parem
 ata \, Time: 1:00PM
SUMMARY:Auction for 
END:VEVENT
END:VCALENDAR
