BEGIN:VCALENDAR
VERSION:2.0
PRODID:icalendar-ruby
CALSCALE:GREGORIAN
BEGIN:VEVENT
DTSTAMP:20260420T163224Z
UID:a83495a0-8a39-498a-94c1-7ab2dee81849
DTSTART;VALUE=DATE:20260513
DESCRIPTION:Property ID# 606486\, Locatoin: Harcourts Paremata at 1pm \, Ti
 me: 1:00PM
SUMMARY:Auction for 4 Botany Lane\, Whitby
END:VEVENT
END:VCALENDAR
