BEGIN:VCALENDAR
VERSION:2.0
PRODID:icalendar-ruby
CALSCALE:GREGORIAN
BEGIN:VEVENT
DTSTAMP:20260420T163122Z
UID:4c5f91a5-d3eb-48e8-964d-b46300df97ba
DTSTART;TZID=Pacific/Auckland:20260422T171500
DTEND;TZID=Pacific/Auckland:20260422T174500
DESCRIPTION:Property ID# 606486
SUMMARY:Openhome for 4 Botany Lane\, Whitby
END:VEVENT
END:VCALENDAR
